BEGIN:VCALENDAR
VERSION:2.0
PRODID:-//ChamberMaster//Event Calendar 2.0//EN
METHOD:PUBLISH
X-PUBLISHED-TTL:P3D
REFRESH-INTERVAL:P3D
CALSCALE:GREGORIAN
BEGIN:VEVENT
DTSTART:20231111T200000Z
DTEND:20231111T220000Z
X-MICROSOFT-CDO-ALLDAYEVENT:FALSE
SUMMARY:Helping with Horsepower Year End Horse Show
DESCRIPTION:Join our riders in celebrating a successful year! See the progress they've made through their riding lessons.
X-ALT-DESC;FMTTYPE=text/html:Join our riders in celebrating a successful year! See the progress they&#39\;ve made through their riding lessons.
LOCATION:Reclamation Ranch 40787 259th St Mitchell\, SD
UID:e.1624.33132
SEQUENCE:3
DTSTAMP:20260420T142252Z
URL:https://business.mitchellchamber.com/events/details/helping-with-horsepower-year-end-horse-show-33132
END:VEVENT

END:VCALENDAR
