BEGIN:VCALENDAR
VERSION:2.0
PRODID:-//ChamberMaster//Event Calendar 2.0//EN
METHOD:PUBLISH
X-PUBLISHED-TTL:P3D
REFRESH-INTERVAL:P3D
CALSCALE:GREGORIAN
BEGIN:VEVENT
DTSTART:20220612T190000Z
DTEND:20220612T223000Z
X-MICROSOFT-CDO-ALLDAYEVENT:FALSE
SUMMARY:Helping with Horsepower Summer Show
DESCRIPTION:Come one\, come all to our summer show! Spring riding session as started and our riders are going to be ready to show off their skills! Come out to Reclamation Ranch\, learn about our program more and see some of our wonderful riders show what they have learned! Event will be as followed: 2:00 PM - Tour 2:30 PM - Rider Showcase 4:30 PM - Awards 5:00 PM - Tour Concessions will also be available through the event! Bleacher seating available\, feel free to bring lawn chairs.
X-ALT-DESC;FMTTYPE=text/html:Come one\, come all to our summer show! Spring riding session as started and our riders are going to be ready to show off their skills! Come out to Reclamation Ranch\, learn about our program more and see some of our wonderful riders show what they have learned! Event will be as followed: 2:00 PM - Tour 2:30 PM - Rider Showcase 4:30 PM - Awards 5:00 PM - Tour Concessions will also be available through the event! Bleacher seating available\, feel free to bring lawn chairs.
LOCATION:Reclamation Ranch - 40787 259th Street Mitchell\, SD
UID:e.1624.32516
SEQUENCE:3
DTSTAMP:20260421T235043Z
URL:https://business.mitchellchamber.com/events/details/helping-with-horsepower-summer-show-32516
END:VEVENT

END:VCALENDAR
