BEGIN:VCALENDAR
VERSION:2.0
PRODID:-//ChamberMaster//Event Calendar 2.0//EN
METHOD:PUBLISH
X-PUBLISHED-TTL:P3D
REFRESH-INTERVAL:P3D
CALSCALE:GREGORIAN
BEGIN:VEVENT
DTSTART:20220617T233000Z
DTEND:20220618T020000Z
X-MICROSOFT-CDO-ALLDAYEVENT:FALSE
SUMMARY:Heart & Sole Cancer Walk & Run
DESCRIPTION:Please join us for the 25th Anniversary of the Heart & Sole Cancer Walk/Run on Friday\, June 17th\, 2022\, at the Mitchell Hitchcock Park\, located at 1201 E. Hanson Ave. Come out and enjoy the added shade\, more seating\, new\n\nroute and new luminary display this year! We will still have the great food and great entertainment this year from Captain's Entertainment.\n\n\n\nThis year we celebrate all of our past Honorary Co-Chairs!\n\n\n\nThe Walk will begin at 6:30 pm with great food and entertainment!\n\n\n\nNew for this year is that the Run will get its dedicated event on Saturday\, June 18th starting at the DWU Avera Sports & Wellness Cimplex!
X-ALT-DESC;FMTTYPE=text/html:Please join us for the 25th Anniversary of the Heart &amp\; Sole Cancer Walk/Run on Friday\, June 17th\, 2022\, at the Mitchell Hitchcock Park\, located at 1201 E. Hanson Ave. Come out and enjoy the added shade\, more seating\, new<br />\nroute and new luminary display this year! We will still have the great food and great entertainment this year from Captain&rsquo\;s Entertainment.<br />\n<br />\nThis year we celebrate all of our past Honorary Co-Chairs!<br />\n<br />\nThe Walk will begin at 6:30 pm with great food and entertainment!<br />\n<br />\nNew for this year is that the Run will get its dedicated event on Saturday\, June 18th starting at the DWU Avera Sports &amp\; Wellness Cimplex!
LOCATION:Mitchell Hitchcock Park 1201 E. Hanson Ave. Mitchell\, South Dakota
UID:e.1624.32517
SEQUENCE:3
DTSTAMP:20260420T094712Z
URL:https://business.mitchellchamber.com/events/details/heart-sole-cancer-walk-run-32517
END:VEVENT

END:VCALENDAR
