BEGIN:VCALENDAR
VERSION:2.0
PRODID:-//ChamberMaster//Event Calendar 2.0//EN
METHOD:PUBLISH
X-PUBLISHED-TTL:P3D
REFRESH-INTERVAL:P3D
CALSCALE:GREGORIAN
BEGIN:VEVENT
DTSTART:20180608T233000Z
DTEND:20180609T020000Z
X-MICROSOFT-CDO-ALLDAYEVENT:FALSE
SUMMARY:Heart & Sole Cancer Walk/Run
DESCRIPTION:Join us for the 21st Annual Mitchell Heart & Sole Cancer Walk/Run on Friday June 8th at the Mitchell Middle School! This year's honorary co-chairs are Diane DesLauriers\, Kristin Vilhauer\, and Tara Bainbridge. Team information is available on the website at www.mitchellheartandsole.com or email us at info@mitchellheartandsole.com for additional information.
X-ALT-DESC;FMTTYPE=text/html:Join us for the 21st Annual Mitchell Heart &amp\; Sole Cancer Walk/Run on Friday June 8th at the Mitchell Middle School! This year&#39\;s honorary co-chairs are Diane DesLauriers\, Kristin Vilhauer\, and Tara Bainbridge. Team information is available on the website at www.mitchellheartandsole.com or email us at info@mitchellheartandsole.com for additional information.
LOCATION:Mitchell Middle School
UID:e.1624.14429
SEQUENCE:3
DTSTAMP:20260425T124855Z
URL:https://business.mitchellchamber.com/events/details/heart-sole-cancer-walk-run-14429
END:VEVENT

END:VCALENDAR
