BEGIN:VCALENDAR
VERSION:2.0
PRODID:-//ChamberMaster//Event Calendar 2.0//EN
METHOD:PUBLISH
X-PUBLISHED-TTL:P3D
REFRESH-INTERVAL:P3D
CALSCALE:GREGORIAN
BEGIN:VEVENT
DTSTART:20240316T003000Z
DTEND:20240316T023000Z
X-MICROSOFT-CDO-ALLDAYEVENT:FALSE
SUMMARY:Head Over Heels: The Musical
DESCRIPTION:The Ron and Sheilah Gates Department of Theatre presents: \n\n"Head Over Heels: The Musical"
X-ALT-DESC;FMTTYPE=text/html:<p>The Ron and Sheilah Gates Department of Theatre presents:&nbsp\;</p>\n\n<h4>&quot\;Head Over Heels: The Musical&quot\;</h4>\n
LOCATION:DWU Black Box Theatre in the Dakota Discovery Museum 1200 W University Ave Mitchell\, SD 57301
UID:e.1624.35903
SEQUENCE:3
DTSTAMP:20260420T105118Z
URL:https://business.mitchellchamber.com/events/details/head-over-heels-the-musical-35903
END:VEVENT

END:VCALENDAR
