BEGIN:VCALENDAR
VERSION:2.0
PRODID:-//ChamberMaster//Event Calendar 2.0//EN
METHOD:PUBLISH
X-PUBLISHED-TTL:P3D
REFRESH-INTERVAL:P3D
CALSCALE:GREGORIAN
BEGIN:VEVENT
DTSTART;VALUE=DATE:20220619
DTEND;VALUE=DATE:20220620
TRANSP:TRANSPARENT
X-MICROSOFT-CDO-ALLDAYEVENT:TRUE
SUMMARY:Harve Johnston - Bryan Wilson Memorial Baseball Tournament
DESCRIPTION:The Mitchell Baseball Association invites you to their annual youth baseball tournament. Individual awards will be given for the top two places in\n\neach division. Every effort will be made to organize competitive contests. Teams will be placed in pools or bracketed and guaranteed 3 games if possible.
X-ALT-DESC;FMTTYPE=text/html:The Mitchell Baseball Association invites you to their annual youth baseball tournament.&nbsp\;Individual awards will be given for the top two places in<br />\neach division. Every effort will be made to organize competitive contests. Teams will be placed in pools or bracketed and guaranteed 3 games if possible.
LOCATION:Cadwell Park Sports Complex 1301 N. Minnesota Ave. Mitchell\, South Dakota
UID:e.1624.32647
SEQUENCE:3
DTSTAMP:20260421T235246Z
URL:https://business.mitchellchamber.com/events/details/harve-johnston-bryan-wilson-memorial-baseball-tournament-32647
END:VEVENT

END:VCALENDAR
