BEGIN:VCALENDAR
VERSION:2.0
PRODID:-//ChamberMaster//Event Calendar 2.0//EN
METHOD:PUBLISH
X-PUBLISHED-TTL:P3D
REFRESH-INTERVAL:P3D
CALSCALE:GREGORIAN
BEGIN:VEVENT
DTSTART:20190112T140000Z
DTEND:20190113T040000Z
X-MICROSOFT-CDO-ALLDAYEVENT:FALSE
SUMMARY:Hanson Classic Girls
DESCRIPTION:http://cornpalace.com/calendar.aspx?EID=293
X-ALT-DESC;FMTTYPE=text/html: http://cornpalace.com/calendar.aspx?EID=293
LOCATION:The World's Only Corn Palace - 604 N Main St Mitchell SD 57301
UID:e.1624.21979
SEQUENCE:3
DTSTAMP:20260424T185413Z
URL:https://business.mitchellchamber.com/events/details/hanson-classic-girls-01-12-2019-21979
END:VEVENT

END:VCALENDAR
