BEGIN:VCALENDAR
VERSION:2.0
PRODID:-//ChamberMaster//Event Calendar 2.0//EN
METHOD:PUBLISH
X-PUBLISHED-TTL:P3D
REFRESH-INTERVAL:P3D
CALSCALE:GREGORIAN
BEGIN:VEVENT
DTSTART:20221031T163000Z
DTEND:20221031T163000Z
X-MICROSOFT-CDO-ALLDAYEVENT:FALSE
SUMMARY:Halloween Party at James Valley Community Center
DESCRIPTION:Halloween Costume Parade & Party   Monday\, Oct. 31 @ 11:30 am   Costume Parade & Games! Let's join in on the fun (costume or not)! $1 fee for Guests
X-ALT-DESC;FMTTYPE=text/html:Halloween Costume Parade &amp\; Party &ndash\; Monday\, Oct. 31 @ 11:30 am &ndash\; Costume Parade &amp\; Games! Let&rsquo\;s join in on the fun (costume or not)! $1 fee for Guests
LOCATION:James Valley Community Center 300 W 1st Ave\, Mitchell
UID:e.1624.32856
SEQUENCE:3
DTSTAMP:20260421T170700Z
URL:https://business.mitchellchamber.com/events/details/halloween-party-at-james-valley-community-center-32856
END:VEVENT

END:VCALENDAR
