BEGIN:VCALENDAR
VERSION:2.0
PRODID:-//ChamberMaster//Event Calendar 2.0//EN
METHOD:PUBLISH
X-PUBLISHED-TTL:P3D
REFRESH-INTERVAL:P3D
CALSCALE:GREGORIAN
BEGIN:VEVENT
DTSTART:20240413T003000Z
DTEND:20240413T040000Z
X-MICROSOFT-CDO-ALLDAYEVENT:FALSE
SUMMARY:Hairball Concert with special Guest-Guilty Pleasure Orchestra
DESCRIPTION:Welcome to Las Vegas meets Arena Rock!  Over the past 20 years\, Hairball has evolved into an explosive national touring act that brings the glory of the 80's to hundreds of thousands of fans throughout the country\, with a 2+ hour drop-dead accurate homage to the biggest arena acts in the world.  You'll see all of your favorite legendary hits - from Van Halen\, KISS\, Motley Crue\, Queen\, Journey\, Aerosmith\, and more   recreated time and time again in front of your very eyes! Our bombastic\, action-packed\, Rock & Roll party is chock-full of surprises guaranteed to thrill   with an arena-sized light show\, smoke\, fire\, pyrotechnics -  we bring a Rock & Roll arsenal to your event that will hit you so hard\,  you'll forget it's not the original.    \n\n\n\nGet the night started with the Guilty Pleasure Orchestra at 7:30 pm\, The ultimate tribute to the great rock and pop of the 70's and 80's recreated just like your albums\, brought to you live.  Hairball to follow approximately 9 pm.
X-ALT-DESC;FMTTYPE=text/html:Welcome to Las Vegas meets Arena Rock! &nbsp\;Over the past 20 years\, Hairball has evolved into an explosive national touring act that brings the glory of the 80&rsquo\;s to hundreds of thousands of fans throughout the country\, with a 2+ hour drop-dead accurate homage to the biggest arena acts in the world. &nbsp\;You&rsquo\;ll see all of your favorite legendary hits - from Van Halen\, KISS\, Motley Crue\, Queen\, Journey\, Aerosmith\, and more &ndash\; recreated time and time again in front of your very eyes! Our bombastic\, action-packed\, Rock &amp\; Roll party is chock-full of surprises guaranteed to thrill &ndash\; with an arena-sized light show\, smoke\, fire\, pyrotechnics - &nbsp\;we bring a Rock &amp\; Roll arsenal to your event that will hit you so hard\, &nbsp\;you&rsquo\;ll forget it&rsquo\;s not the original. &nbsp\; &nbsp\;<br />\n<br />\nGet the night started with the&nbsp\;Guilty Pleasure Orchestra&nbsp\;at 7:30 pm\,&nbsp\;The ultimate tribute to the great rock and pop of the 70&rsquo\;s and 80&rsquo\;s recreated just like your albums\, brought to you live. &nbsp\;Hairball to follow approximately 9 pm.
LOCATION:The Corn Palace 604 N Main St. Mitchell\, SD 57301
UID:e.1624.36133
SEQUENCE:3
DTSTAMP:20260420T094914Z
URL:https://business.mitchellchamber.com/events/details/hairball-concert-with-special-guest-guilty-pleasure-orchestra-36133
END:VEVENT

END:VCALENDAR
