BEGIN:VCALENDAR
VERSION:2.0
PRODID:-//ChamberMaster//Event Calendar 2.0//EN
METHOD:PUBLISH
X-PUBLISHED-TTL:P3D
REFRESH-INTERVAL:P3D
CALSCALE:GREGORIAN
BEGIN:VEVENT
DTSTART:20140815T221500Z
DTEND:20140815T230000Z
X-MICROSOFT-CDO-ALLDAYEVENT:FALSE
SUMMARY:Habitat for Humanity Dedication
DESCRIPTION:Mitchell Regional Habitat for Humanity will be celebrating the completion of their newest home in Mitchell on Friday\, August 15th at 5:15pm.  Join us for the dedication and open house to follow - located at 1004 East 1st Ave.\, Mitchell.
X-ALT-DESC;FMTTYPE=text/html:Mitchell Regional Habitat for Humanity will be celebrating the completion of their newest home in Mitchell on Friday\, August 15th at 5:15pm.&nbsp\; Join us for the dedication and open house to follow - located at 1004 East 1st Ave.\, Mitchell.
LOCATION:1004 E. 1st Ave.\, Mitchell
UID:e.1624.1207
SEQUENCE:3
DTSTAMP:20260421T131939Z
URL:https://business.mitchellchamber.com/events/details/habitat-for-humanity-dedication-08-15-2014-1207
END:VEVENT

END:VCALENDAR
