BEGIN:VCALENDAR
VERSION:2.0
PRODID:-//ChamberMaster//Event Calendar 2.0//EN
METHOD:PUBLISH
X-PUBLISHED-TTL:P3D
REFRESH-INTERVAL:P3D
CALSCALE:GREGORIAN
BEGIN:VEVENT
DTSTART:20170908T170000Z
DTEND:20170908T170000Z
X-MICROSOFT-CDO-ALLDAYEVENT:FALSE
SUMMARY:Grandparents Day Celebration
DESCRIPTION:Grandparents Day Celebration   Friday\, September 8 @ Noon @ James Valley Community Center   We will celebrate grandparents & all members with the YWCA Youth.  Come join the fun!
X-ALT-DESC;FMTTYPE=text/html:<strong><span style="color:red"><span style="font-size:12.0pt">Grandparents Day Celebration &ndash\; Friday\, September 8 @ Noon @ James Valley Community Center &ndash\; We will celebrate grandparents &amp\; all members with the YWCA Youth.&nbsp\; Come join the fun! &nbsp\;</span></span></strong>
LOCATION:James Valley Community Center\, 300 W 1st Ave\, Mitchell
UID:e.1624.9062
SEQUENCE:3
DTSTAMP:20260426T032956Z
URL:https://business.mitchellchamber.com/events/details/grandparents-day-celebration-9062
END:VEVENT

END:VCALENDAR
