BEGIN:VCALENDAR
VERSION:2.0
PRODID:-//ChamberMaster//Event Calendar 2.0//EN
METHOD:PUBLISH
X-PUBLISHED-TTL:P3D
REFRESH-INTERVAL:P3D
CALSCALE:GREGORIAN
BEGIN:VEVENT
DTSTART:20140407T170000Z
DTEND:20140407T180000Z
X-MICROSOFT-CDO-ALLDAYEVENT:FALSE
SUMMARY:Governmental Affairs Committee Meeting
DESCRIPTION:Governmental Affairs Committee Meeting
X-ALT-DESC;FMTTYPE=text/html:<span style="color:#000080\;"><span style="font-size: 16px\;"><strong>Governmental Affairs Committee Meeting&nbsp\;</strong></span></span>&nbsp\;&nbsp\;
LOCATION:Blarneys Sports Bar
UID:e.1624.371
SEQUENCE:3
DTSTAMP:20260421T202202Z
URL:https://business.mitchellchamber.com/events/details/governmental-affairs-committee-meeting-04-07-2014-371
END:VEVENT

END:VCALENDAR
