BEGIN:VCALENDAR
VERSION:2.0
PRODID:-//ChamberMaster//Event Calendar 2.0//EN
METHOD:PUBLISH
X-PUBLISHED-TTL:P3D
REFRESH-INTERVAL:P3D
CALSCALE:GREGORIAN
BEGIN:VEVENT
DTSTART:20240411T233000Z
DTEND:20240412T010000Z
X-MICROSOFT-CDO-ALLDAYEVENT:FALSE
SUMMARY:Going out Green: 21st Century Natural Burial Options in South Dakota
DESCRIPTION:"Green\," or natural\, burial conserves natural resources and preserves wildlife habitat. It's more environmentally sensitive than cremation\, and costs significantly less than other burial practices. 418 cemeteries offer natural burial options in the United States. One is Mt. Pleasant Cemetery in Sioux Falls. This presentation focuses on the American history of natural burial since the 1700s\, as well as information on options for an environmentally sound burial. This program is funded by a grant from the South Dakota Humanities Council\, an affiliate of the National Endowment for the Humanities
X-ALT-DESC;FMTTYPE=text/html:&ldquo\;Green\,&rdquo\; or natural\, burial conserves natural resources and preserves wildlife habitat. It&rsquo\;s more environmentally sensitive than cremation\, and costs significantly less than other burial practices. 418 cemeteries offer natural burial options in the United States. One is Mt. Pleasant Cemetery in Sioux Falls. This presentation focuses on the American history of natural burial since the 1700s\, as well as information on options for an environmentally sound burial. This program is funded by a grant from the South Dakota Humanities Council\, an affiliate of the National Endowment for the Humanities
LOCATION:Mitchell Public Library 221 N. Duff St. Mitchell\, SD 57301
UID:e.1624.36192
SEQUENCE:3
DTSTAMP:20260420T094917Z
URL:https://business.mitchellchamber.com/events/details/going-out-green-21st-century-natural-burial-options-in-south-dakota-36192
END:VEVENT

END:VCALENDAR
