BEGIN:VCALENDAR
VERSION:2.0
PRODID:-//ChamberMaster//Event Calendar 2.0//EN
METHOD:PUBLISH
X-PUBLISHED-TTL:P3D
REFRESH-INTERVAL:P3D
CALSCALE:GREGORIAN
BEGIN:VEVENT
DTSTART:20220610T190000Z
DTEND:20220610T200000Z
X-MICROSOFT-CDO-ALLDAYEVENT:FALSE
SUMMARY:"Gluten-Free Jamboree: An Event for Youth with Celiac Disease"
DESCRIPTION:The "Gluten-Free Jamboree: An event for youth with Celiac Disease" will be offered at 2 p.m. Friday\, June 10\, at the Kiwanis Woodlot Shelter on Indian Lake Road in Mitchell. It will be an afternoon of fun\, gluten-free treats and support for kids with Celiac Disease. Among the education will be a teen who has some great recipe ideas. This free event is for kids and their families. For questions\, email Katherine.Thomsen@avera.org.
X-ALT-DESC;FMTTYPE=text/html:The &quot\;Gluten-Free Jamboree: An event for youth with Celiac Disease&quot\; will be offered at 2 p.m. Friday\, June 10\, at the Kiwanis Woodlot Shelter on Indian Lake Road in Mitchell. It will be an afternoon of fun\, gluten-free treats and support for kids with Celiac Disease. Among the education will be a teen who has some great recipe ideas. This free event is for kids and their families. For questions\, email Katherine.Thomsen@avera.org.
LOCATION:Kiwanis Woodlot Shelter on Indian Lake Road in Mitchell
UID:e.1624.32608
SEQUENCE:3
DTSTAMP:20260421T235354Z
URL:https://business.mitchellchamber.com/events/details/gluten-free-jamboree-an-event-for-youth-with-celiac-disease-32608
END:VEVENT

END:VCALENDAR
