BEGIN:VCALENDAR
VERSION:2.0
PRODID:-//ChamberMaster//Event Calendar 2.0//EN
METHOD:PUBLISH
X-PUBLISHED-TTL:P3D
REFRESH-INTERVAL:P3D
CALSCALE:GREGORIAN
BEGIN:VEVENT
DTSTART:20150806T130000Z
DTEND:20150807T220000Z
X-MICROSOFT-CDO-ALLDAYEVENT:FALSE
SUMMARY:Global Leadership Summit
DESCRIPTION:The Global Leadership Summit is a two-day event that is broadcast LIVE in HD and is a world-class experience for leaders who want to get better. Leverage this summit as a resource to sharpen your skills and unleash the full potential of your team.
X-ALT-DESC;FMTTYPE=text/html:The Global Leadership Summit is a two-day event that is broadcast LIVE in HD and is a world-class experience for leaders who want to get better. Leverage this summit as a resource to sharpen your skills and unleash the full potential of your team.
LOCATION:Dakota Wesleyan University Sherman Center
UID:e.1624.1394
SEQUENCE:3
DTSTAMP:20260420T040609Z
URL:https://business.mitchellchamber.com/events/details/global-leadership-summit-08-06-2015-1394
END:VEVENT

END:VCALENDAR
