BEGIN:VCALENDAR
VERSION:2.0
PRODID:-//ChamberMaster//Event Calendar 2.0//EN
METHOD:PUBLISH
X-PUBLISHED-TTL:P3D
REFRESH-INTERVAL:P3D
CALSCALE:GREGORIAN
BEGIN:VEVENT
DTSTART:20240511T003000Z
DTEND:20240511T023000Z
X-MICROSOFT-CDO-ALLDAYEVENT:FALSE
SUMMARY:GILLIGAN'S ISLAND (the musical)
DESCRIPTION:Gilligan's Island\, The Musical is a family-friendly stage musical version of the ever popular and iconic 60's TV comedy show with the Skipper\, Gilligan\, the Millionaire & his wife\, the Movie Star Ginger\, the Professor and MaryAnn. Shipwrecked on a remote Pacific island\, the castaways discover strange hieroglyphics in a spooky cave\, which speak of an ancient legend. It's fun\, wacky and entertaining until Gilligan foils and out of this world rescue plan.
X-ALT-DESC;FMTTYPE=text/html:Gilligan&#39\;s Island\, The Musical is a family-friendly stage musical version of the ever popular and iconic 60&#39\;s TV comedy show with the Skipper\, Gilligan\, the Millionaire &amp\; his wife\, the Movie Star Ginger\, the Professor and MaryAnn. Shipwrecked on a remote Pacific island\, the castaways discover strange hieroglyphics in a spooky cave\, which speak of an ancient legend. It&#39\;s fun\, wacky and entertaining until Gilligan foils and out of this world rescue plan.\n<div>&nbsp\;</div>\n
LOCATION:Mitchell Area Community Theatre 700 N. Main St. Mitchell\, SD 57301
UID:e.1624.36213
SEQUENCE:3
DTSTAMP:20260420T065758Z
URL:https://business.mitchellchamber.com/events/details/gilligan-s-island-the-musical-36213
END:VEVENT

END:VCALENDAR
