BEGIN:VCALENDAR
VERSION:2.0
PRODID:-//ChamberMaster//Event Calendar 2.0//EN
METHOD:PUBLISH
X-PUBLISHED-TTL:P3D
REFRESH-INTERVAL:P3D
CALSCALE:GREGORIAN
BEGIN:VEVENT
DTSTART:20250208T210000Z
DTEND:20250209T000000Z
X-MICROSOFT-CDO-ALLDAYEVENT:FALSE
SUMMARY:Galentine's Day Party
DESCRIPTION:Let's celebrate all the great gals in our lives! $30 gets you a gift bag\, free drink\, charcuterie table and a place to mingle with friends w/ photo ops! Reservations please 605-990- 4525 seating is limited so call today!
X-ALT-DESC;FMTTYPE=text/html:<span style="color: rgb(20\, 24\, 39)\; font-family: azo-sans-web\, sans-serif\; font-size: 18px\;">Let&rsquo\;s celebrate all the great gals in our lives! $30 gets you a gift bag\, free drink\, charcuterie table and a place to mingle with friends w/ photo ops! Reservations please 605-990- 4525 seating is limited so call today!</span>
LOCATION:CJ's Bar and Casino 2700 N Main St
UID:e.1624.39459
SEQUENCE:3
DTSTAMP:20260421T113626Z
URL:https://business.mitchellchamber.com/events/details/galentine-s-day-party-39459
END:VEVENT

END:VCALENDAR
