BEGIN:VCALENDAR
VERSION:2.0
PRODID:-//ChamberMaster//Event Calendar 2.0//EN
METHOD:PUBLISH
X-PUBLISHED-TTL:P3D
REFRESH-INTERVAL:P3D
CALSCALE:GREGORIAN
BEGIN:VEVENT
DTSTART:20231112T000000Z
DTEND:20231112T040000Z
X-MICROSOFT-CDO-ALLDAYEVENT:FALSE
SUMMARY:FROST JAM for Mitchell Area Council of the Arts
DESCRIPTION:The Mitchell Area Council of the Arts will be fundraising at the Back 40 on 11/11 with music starting at 6 PM. Musicians include Mike Catalano\, Hey Duck!\, Brian Offman\, Liz Morrison\, and J & Jess. Local artists will be participating in an art show that will be displayed within the Back 40 for viewing and purchasable. Artists interested in having their work shown can send submissions to the council at MitchellAreaArts@gmail.com. This is a public-friendly event that showcases the talent and skill of our community members. Anyone interested in learning more about the art council are welcome to visit with members and can participate in a 50/50 funding raffle. Tickets will be available starting 10/28 and the drawing will be held at the Back 40 on 11/11 after the music acts. Visit mitchellarts.org to read more about the council and ways you can donate or help.
X-ALT-DESC;FMTTYPE=text/html:The Mitchell Area Council of the Arts will be fundraising at the Back 40 on 11/11 with music starting at 6 PM. Musicians include Mike Catalano\, Hey Duck!\, Brian Offman\, Liz Morrison\, and J &amp\; Jess. Local artists will be participating in an art show that will be displayed within the Back 40 for viewing and purchasable. Artists interested in having their work shown can send submissions to the council at MitchellAreaArts@gmail.com. This is a public-friendly event that showcases the talent and skill of our community members. Anyone interested in learning more about the art council are welcome to visit with members and can participate in a 50/50 funding raffle. Tickets will be available starting 10/28 and the drawing will be held at the Back 40 on 11/11 after the music acts. Visit mitchellarts.org to read more about the council and ways you can donate or help.
LOCATION:The Back 40 511 N Main St Mitchell\, SD 57301
UID:e.1624.35168
SEQUENCE:3
DTSTAMP:20260420T154930Z
URL:https://business.mitchellchamber.com/events/details/frost-jam-for-mitchell-area-council-of-the-arts-35168
END:VEVENT

END:VCALENDAR
