BEGIN:VCALENDAR
VERSION:2.0
PRODID:-//ChamberMaster//Event Calendar 2.0//EN
METHOD:PUBLISH
X-PUBLISHED-TTL:P3D
REFRESH-INTERVAL:P3D
CALSCALE:GREGORIAN
BEGIN:VEVENT
DTSTART:20240203T010000Z
DTEND:20240203T020000Z
X-MICROSOFT-CDO-ALLDAYEVENT:FALSE
SUMMARY:From Rags to Riches - Clint and Erin Desmond Faculty Recital
DESCRIPTION:The Ron and Sheilah Gates Department of Music at Dakota Wesleyan University present Clint and Erin Desmond Faculty Recital. The concert will be at 7 p.m.\, Friday\, Feb. 2\, at the Downtown Mitchell First United Methodist Church\, and is free and open to the public.
X-ALT-DESC;FMTTYPE=text/html:<div>\n<div>\n<div>\n<div>\n<div>\n<div>\n<p>The Ron and Sheilah Gates Department of Music at Dakota Wesleyan University present Clint and Erin Desmond Faculty Recital. The concert will be at 7 p.m.\, Friday\, Feb. 2\, at the Downtown Mitchell First United Methodist Church\, and is free and open to the public.</p>\n</div>\n</div>\n</div>\n</div>\n</div>\n</div>\n\n<div class="eventsDetailsBodySide col-lg-4" style="margin: 0px\; padding: 0px\; border-top: 0px\; border-right: 0px\; border-bottom: 0px\; border-left: 1px solid var(--border-color-dark)\; border-image: initial\; outline: 0px\; position: relative\; width: 430px\; flex: 0 0 33.3333%\; max-width: 33.3333%\; box-sizing: border-box\; color: rgb(2\, 42\, 82)\; font-family: &quot\;Gandhi Serif&quot\;\, serif\; font-size: 18px\;">\n<div class="eventsDetailsBodySideInner" style="margin: 0px\; padding: 40px 30px 30px\; border: 0px\; outline: 0px\; box-sizing: border-box\;">&nbsp\;</div>\n</div>\n
LOCATION:Downtown Mitchell First United Methodist Church 310 N Rowley Mitchell\, SD 57301
UID:e.1624.35814
SEQUENCE:3
DTSTAMP:20260420T161335Z
URL:https://business.mitchellchamber.com/events/details/from-rags-to-riches-clint-and-erin-desmond-faculty-recital-35814
END:VEVENT

END:VCALENDAR
