BEGIN:VCALENDAR
VERSION:2.0
PRODID:-//ChamberMaster//Event Calendar 2.0//EN
METHOD:PUBLISH
X-PUBLISHED-TTL:P3D
REFRESH-INTERVAL:P3D
CALSCALE:GREGORIAN
BEGIN:VEVENT
DTSTART:20220409T190000Z
DTEND:20220409T210000Z
X-MICROSOFT-CDO-ALLDAYEVENT:FALSE
SUMMARY:Friend de Coup Cabaret "ABC 123"
DESCRIPTION:Mitchell High School's award winning Friend De Coup show choir presents ABC 123 Cabaret featuring guest performances from the Mitchell Area Children's Choir\, John Paul II\, and Mitchell Middle School Show Choirs Exclamation and Maximum Velocity. The show also includes large and small group songs as well as solo selections.
X-ALT-DESC;FMTTYPE=text/html:Mitchell High School&rsquo\;s award winning Friend De Coup show choir presents ABC 123 Cabaret featuring guest performances from the Mitchell Area Children&rsquo\;s Choir\, John Paul II\, and Mitchell Middle School Show Choirs Exclamation and Maximum Velocity. The show also includes large and small group songs as well as solo selections.
LOCATION:Performing Arts Center Mitchell\, South Dakota
UID:e.1624.32469
SEQUENCE:3
DTSTAMP:20260422T032603Z
URL:https://business.mitchellchamber.com/events/details/friend-de-coup-cabaret-abc-123-32469
END:VEVENT

END:VCALENDAR
