BEGIN:VCALENDAR
VERSION:2.0
PRODID:-//ChamberMaster//Event Calendar 2.0//EN
METHOD:PUBLISH
X-PUBLISHED-TTL:P3D
REFRESH-INTERVAL:P3D
CALSCALE:GREGORIAN
BEGIN:VEVENT
DTSTART:20181211T003000Z
DTEND:20181211T033000Z
X-MICROSOFT-CDO-ALLDAYEVENT:FALSE
SUMMARY:Freeman vs Kimball/White Lake
DESCRIPTION:http://cornpalace.com/calendar.aspx?EID=286
X-ALT-DESC;FMTTYPE=text/html: http://cornpalace.com/calendar.aspx?EID=286
LOCATION:The World's Only Corn Palace - 604 N Main St Mitchell SD 57301
UID:e.1624.20554
SEQUENCE:3
DTSTAMP:20260424T203223Z
URL:https://business.mitchellchamber.com/events/details/freeman-vs-kimball-white-lake-12-10-2018-20554
END:VEVENT

END:VCALENDAR
