BEGIN:VCALENDAR
VERSION:2.0
PRODID:-//ChamberMaster//Event Calendar 2.0//EN
METHOD:PUBLISH
X-PUBLISHED-TTL:P3D
REFRESH-INTERVAL:P3D
CALSCALE:GREGORIAN
BEGIN:VEVENT
DTSTART:20240719T163000Z
DTEND:20240719T180000Z
X-MICROSOFT-CDO-ALLDAYEVENT:FALSE
SUMMARY:Free Summer Courtyard Concert Series - Weston Frank
DESCRIPTION:Summer is coming\, and so is our Courtyard Concert Summer Series. We will be bringing you Friday lunch jams downtown with generous community support from Moose Lodge Mitchell #875 as they sponsor our performers!
X-ALT-DESC;FMTTYPE=text/html:Summer is coming\, and so is our Courtyard Concert Summer Series. We will be bringing you Friday lunch jams downtown with generous community support from Moose Lodge Mitchell #875 as they sponsor our performers!&nbsp\;
LOCATION:Palace Park Mall Main Street across from the Corn Palace
UID:e.1624.37375
SEQUENCE:3
DTSTAMP:20260420T084123Z
URL:https://business.mitchellchamber.com/events/details/free-summer-courtyard-concert-series-weston-frank-37375
END:VEVENT

END:VCALENDAR
