BEGIN:VCALENDAR
VERSION:2.0
PRODID:-//ChamberMaster//Event Calendar 2.0//EN
METHOD:PUBLISH
X-PUBLISHED-TTL:P3D
REFRESH-INTERVAL:P3D
CALSCALE:GREGORIAN
BEGIN:VEVENT
DTSTART:20150901T120000Z
DTEND:20150901T180000Z
X-MICROSOFT-CDO-ALLDAYEVENT:FALSE
SUMMARY:Free Prostate Screening
DESCRIPTION:Avera Queen of Peace will be hosting a free prostate screening for men 50 & over on Tuesday September 1st from 7:00 am to 1:00 pm at the Mitchell Recreation Center. PLEASE stop in and take the time for this free service being provided. See you September 1st.
X-ALT-DESC;FMTTYPE=text/html:Avera Queen of Peace will be hosting a free prostate screening for men 50 &amp\; over on Tuesday September 1st from 7:00 am to 1:00 pm at the Mitchell Recreation Center. PLEASE stop in and take the time for this free service being provided. See you September 1st.
LOCATION:Mitchell Recreation Center\, 1300 N Main
UID:e.1624.1989
SEQUENCE:3
DTSTAMP:20260419T172907Z
URL:https://business.mitchellchamber.com/events/details/free-prostate-screening-09-01-2015-1989
END:VEVENT

END:VCALENDAR
