BEGIN:VCALENDAR
VERSION:2.0
PRODID:-//ChamberMaster//Event Calendar 2.0//EN
METHOD:PUBLISH
X-PUBLISHED-TTL:P3D
REFRESH-INTERVAL:P3D
CALSCALE:GREGORIAN
BEGIN:VEVENT
DTSTART:20240417T220000Z
DTEND:20240418T000000Z
X-MICROSOFT-CDO-ALLDAYEVENT:FALSE
SUMMARY:FREE Pediatric Therapy Screenings for Children Ages 2-12
DESCRIPTION:Avera Therapy - Pediatrics is offering FREE Pediatric Therapy Screenings for Children Ages 2-12 on Wednesday\, April 17 from 5-7 p.m. \n\n\n\nParents/caregivers often have questions regarding their child's speech and motor development. This free screening will help determine the child's communication\, motor and developmental strengths and needs and help identify if further occupational therapy\, physical therapy or speech therapy may be appropriate to help develop age-appropriate skills.\n\n\n\nFinancial assistance or free speech therapy services may be available through Avera Therapy's partnership with the Scottish Rite.\n\n\n\nSign up by calling the Avera office at 605-995-6373.
X-ALT-DESC;FMTTYPE=text/html:Avera Therapy - Pediatrics is offering FREE Pediatric Therapy Screenings for Children Ages 2-12 on Wednesday\, April 17 from 5-7 p.m.&nbsp\;<br />\n<br />\nParents/caregivers often have questions regarding their child&rsquo\;s speech and motor development. This free screening will help determine the child&rsquo\;s communication\, motor and developmental strengths and needs and help identify if further occupational therapy\, physical therapy or speech therapy may be appropriate to help develop age-appropriate skills.<br />\n<br />\nFinancial assistance or free speech therapy services may be available through Avera Therapy&rsquo\;s partnership with the Scottish Rite.<br />\n<br />\nSign up by calling the Avera office at 605-995-6373.
LOCATION:Avera Therapy - Pediatrics 200 E Havens Ave Mitchell\, SD 57301
UID:e.1624.36196
SEQUENCE:3
DTSTAMP:20260420T094817Z
URL:https://business.mitchellchamber.com/events/details/free-pediatric-therapy-screenings-for-children-ages-2-12-36196
END:VEVENT

END:VCALENDAR
