BEGIN:VCALENDAR
VERSION:2.0
PRODID:-//ChamberMaster//Event Calendar 2.0//EN
METHOD:PUBLISH
X-PUBLISHED-TTL:P3D
REFRESH-INTERVAL:P3D
CALSCALE:GREGORIAN
BEGIN:VEVENT
DTSTART:20181106T130000Z
DTEND:20181107T010000Z
X-MICROSOFT-CDO-ALLDAYEVENT:FALSE
SUMMARY:FREE - Palace Transit to the Polls
DESCRIPTION:FREE RIDES will be provided to vote on Tuesday\, November 6th from 7am to 7pm. Please call the Palace Transit office at 605-995-8440 before 4:00pm on November 5th to schedule your ride!
X-ALT-DESC;FMTTYPE=text/html:FREE RIDES will be provided to vote on Tuesday\, November 6th from 7am to 7pm. Please call the Palace Transit office at 605-995-8440 before 4:00pm on November 5th to schedule your ride!
LOCATION:Mitchell\, SD
UID:e.1624.19382
SEQUENCE:3
DTSTAMP:20260425T040231Z
URL:https://business.mitchellchamber.com/events/details/free-palace-transit-to-the-polls-19382
END:VEVENT

END:VCALENDAR
