BEGIN:VCALENDAR
VERSION:2.0
PRODID:-//ChamberMaster//Event Calendar 2.0//EN
METHOD:PUBLISH
X-PUBLISHED-TTL:P3D
REFRESH-INTERVAL:P3D
CALSCALE:GREGORIAN
BEGIN:VEVENT
DTSTART:20191223T193000Z
DTEND:20191223T213000Z
X-MICROSOFT-CDO-ALLDAYEVENT:FALSE
SUMMARY:Free Holiday Movie - "Miracle on 34th Street"
DESCRIPTION:Come to the Mitchell Public Library to see "Miracle on 34th Street" on Monday\, Dec. 23\, at 1:30pm. Free! Everyone welcome.
X-ALT-DESC;FMTTYPE=text/html:Come to the Mitchell Public Library to see &quot\;Miracle on 34th Street&quot\; on Monday\, Dec. 23\, at 1:30pm. Free! Everyone welcome.
LOCATION:Mitchell Public Library Community Room 221 N. Duff Mitchell\, SD 57301
UID:e.1624.27730
SEQUENCE:3
DTSTAMP:20260424T074421Z
URL:https://business.mitchellchamber.com/events/details/free-holiday-movie-miracle-on-34th-street-27730
END:VEVENT

END:VCALENDAR
