BEGIN:VCALENDAR
VERSION:2.0
PRODID:-//ChamberMaster//Event Calendar 2.0//EN
METHOD:PUBLISH
X-PUBLISHED-TTL:P3D
REFRESH-INTERVAL:P3D
CALSCALE:GREGORIAN
BEGIN:VEVENT
DTSTART:20241102T150000Z
DTEND:20241102T164000Z
X-MICROSOFT-CDO-ALLDAYEVENT:FALSE
SUMMARY:Free Family Movie - "Minions: Rise of Gru"
DESCRIPTION:"Minions: Rise of Gru" movie - free admission for all ages to attend - full concessions available for purchase
X-ALT-DESC;FMTTYPE=text/html:&quot\;Minions: Rise of Gru&quot\; movie - free admission for all ages to attend - full concessions available for purchase
LOCATION:Odyssey Luxury 5 209 N. Lawler
UID:e.1624.37669
SEQUENCE:3
DTSTAMP:20260419T183219Z
URL:https://business.mitchellchamber.com/events/details/free-family-movie-minions-rise-of-gru-37669
END:VEVENT

END:VCALENDAR
