BEGIN:VCALENDAR
VERSION:2.0
PRODID:-//ChamberMaster//Event Calendar 2.0//EN
METHOD:PUBLISH
X-PUBLISHED-TTL:P3D
REFRESH-INTERVAL:P3D
CALSCALE:GREGORIAN
BEGIN:VEVENT
DTSTART:20171020T000000Z
DTEND:20171020T010000Z
X-MICROSOFT-CDO-ALLDAYEVENT:FALSE
SUMMARY:Free Event- Eating Healthy May Reduce Your Cancer Risk
DESCRIPTION:Join dietitians Kat Anundson\, MS\, RDN\, and Nancy Miller\, MS\, RD\, during a cooking demonstration about the relationship between healthy eating and cancer risk.\n\nSamples will include a low carb chili and a super food smoothies.
X-ALT-DESC;FMTTYPE=text/html:<p>Join dietitians Kat Anundson\, MS\, RDN\, and Nancy Miller\, MS\, RD\, during a cooking demonstration about the relationship between healthy eating and cancer risk.</p>\n\n<p>Samples will include a low carb chili and a super food smoothies.</p>\n
LOCATION:County Fair- deli area 1305 W. Havens Mitchell\, SD
UID:e.1624.9136
SEQUENCE:3
DTSTAMP:20260426T014204Z
URL:https://business.mitchellchamber.com/events/details/free-event-eating-healthy-may-reduce-your-cancer-risk-9136
END:VEVENT

END:VCALENDAR
