BEGIN:VCALENDAR
VERSION:2.0
PRODID:-//ChamberMaster//Event Calendar 2.0//EN
METHOD:PUBLISH
X-PUBLISHED-TTL:P3D
REFRESH-INTERVAL:P3D
CALSCALE:GREGORIAN
BEGIN:VEVENT
DTSTART:20220702T143000Z
DTEND:20220702T180000Z
X-MICROSOFT-CDO-ALLDAYEVENT:FALSE
SUMMARY:Free Charter Bus trip for Veterans
DESCRIPTION:FREE Charter Bus Trip for Veterans and their families to view the Wall of Heroes in Parkston\, SD. Saturday\, July 2nd.  Bus departs at 9:30am and will return at 1:00pm.  A second bus will depart at 1:30pm and return at 4:30pm.  Bus will depart from Holy Family Catholic Church at 222 N Kimball in Mitchell.  Bring a lawn chair if able.  *Bus is handicap accessible.  To sign up call: Davison County Veteran's Office: 605-995-8619 or Jan Kristensen 605-680-1046   The traveling Vietnam Memorial Wall will be viewable in Parkston's East City Park.  The Wall\, which is 360 feet long\, will be on display along with 68 additional panels of other wars and conflicts throughout America's history.  Join us as we honor all those who served and pay respect to those who made the ultimate sacrifice for our freedom.   Bus sponsored by Catholic Daughters of the Americas\, Court Margaret Mary of Holy Family & Holy Spirit Catholic Parishes.
X-ALT-DESC;FMTTYPE=text/html:FREE Charter Bus Trip for Veterans and their families to view the Wall of Heroes in Parkston\, SD. Saturday\, July 2nd.&nbsp\; Bus departs at 9:30am and will return at 1:00pm.&nbsp\; A second bus will depart at 1:30pm and return at 4:30pm.&nbsp\; Bus will depart from Holy Family Catholic Church at 222 N Kimball in Mitchell.&nbsp\; Bring a lawn chair if able.&nbsp\; *Bus is handicap accessible.&nbsp\; To sign up call: Davison County Veteran&#39\;s Office: 605-995-8619 or Jan Kristensen 605-680-1046&nbsp\;&nbsp\; The traveling Vietnam Memorial Wall will be viewable in Parkston&#39\;s East City Park.&nbsp\; The Wall\, which is 360 feet long\, will be on display along with 68 additional panels of other wars and conflicts throughout America&#39\;s history.&nbsp\; Join us as we honor all those who served and pay respect to those who made the ultimate sacrifice for our freedom.&nbsp\;&nbsp\; Bus sponsored by Catholic Daughters of the Americas\, Court Margaret Mary of Holy Family &amp\; Holy Spirit Catholic Parishes.&nbsp\;
LOCATION:Parkston\, SD
UID:e.1624.32655
SEQUENCE:3
DTSTAMP:20260421T221026Z
URL:https://business.mitchellchamber.com/events/details/free-charter-bus-trip-for-veterans-32655
END:VEVENT

END:VCALENDAR
