BEGIN:VCALENDAR
VERSION:2.0
PRODID:-//ChamberMaster//Event Calendar 2.0//EN
METHOD:PUBLISH
X-PUBLISHED-TTL:P3D
REFRESH-INTERVAL:P3D
CALSCALE:GREGORIAN
BEGIN:VEVENT
DTSTART:20140519T220000Z
DTEND:20140520T020000Z
X-MICROSOFT-CDO-ALLDAYEVENT:FALSE
SUMMARY:FREE American Red Cross Course Entitled "Coping in Today's World"
DESCRIPTION:Psychological first aid and the role of psychological resilience in promoting growth and healthy coping represent a relatively new and evolving field of study and practice. The Red Cross has a long history of providing support to others in times of crisis. This new course is designed to help family members\, friends\, and neighbors provide better emotional support to one another in times of common stress and strain\, and even during times of crisis and disaster. To sign up for the FREE "Coping in Today's World Course\,? please register at the website listed below: http://arcdmhi.eventbrite.com (Must be 18 years or older to register)
X-ALT-DESC;FMTTYPE=text/html:Psychological first aid and the role of psychological resilience in promoting growth and healthy coping represent a relatively new and evolving field of study and practice. The Red Cross has a long history of providing support to others in times of crisis. This new course is designed to help family members\, friends\, and neighbors provide better emotional support to one another in times of common stress and strain\, and even during times of crisis and disaster. To sign up for the FREE &quot\;Coping in Today&#39\;s World Course\,? please register at the website listed below: http://arcdmhi.eventbrite.com (Must be 18 years or older to register)
LOCATION:Mitchell Public Safety Building\, 201 W 1st Ave\, Mitchell\, SD
UID:e.1624.1165
SEQUENCE:3
DTSTAMP:20260419T123856Z
URL:https://business.mitchellchamber.com/events/details/free-american-red-cross-course-entitled-coping-in-today-s-world-05-19-2014-1165
END:VEVENT

END:VCALENDAR
