BEGIN:VCALENDAR
VERSION:2.0
PRODID:-//ChamberMaster//Event Calendar 2.0//EN
METHOD:PUBLISH
X-PUBLISHED-TTL:P3D
REFRESH-INTERVAL:P3D
CALSCALE:GREGORIAN
BEGIN:VEVENT
DTSTART;VALUE=DATE:20240524
DTEND;VALUE=DATE:20240527
TRANSP:TRANSPARENT
X-MICROSOFT-CDO-ALLDAYEVENT:TRUE
SUMMARY:Free Admission Weekend
DESCRIPTION:National Travel and Tourism Week is May 19th-25th and we are celebrating with Free Admission Weekend at local attractions! Visit the Dakota Discovery Museum and the Mitchell Prehistoric Indian Village free of charge on May 24th-26th (please note that Dakota Discovery is not open on Sundays). This is the perfect time to go out and see what Mitchell has to offer.
X-ALT-DESC;FMTTYPE=text/html:National Travel and Tourism Week is May 19th-25th and we are celebrating with Free Admission Weekend at local attractions! Visit the Dakota Discovery Museum and the Mitchell Prehistoric Indian Village free of charge on May 24th-26th (please note that Dakota Discovery is not open on Sundays). This is the perfect time to go out and see what Mitchell has to offer.
LOCATION:Mitchell Prehistoric Indian Village 3200 Indian Village Rd. Dakota Discovery Museum 1200 W. University Ave
UID:e.1624.36626
SEQUENCE:3
DTSTAMP:20260420T063608Z
URL:https://business.mitchellchamber.com/events/details/free-admission-weekend-36626
END:VEVENT

END:VCALENDAR
