BEGIN:VCALENDAR
VERSION:2.0
PRODID:-//ChamberMaster//Event Calendar 2.0//EN
METHOD:PUBLISH
X-PUBLISHED-TTL:P3D
REFRESH-INTERVAL:P3D
CALSCALE:GREGORIAN
BEGIN:VEVENT
DTSTART:20220701T220000Z
DTEND:20220702T020000Z
X-MICROSOFT-CDO-ALLDAYEVENT:FALSE
SUMMARY:First Fridays on Main
DESCRIPTION:2022 First Fridays on Main
X-ALT-DESC;FMTTYPE=text/html:<strong>2022 First Fridays on Main</strong>
LOCATION:5th and Main to 7th and Main Street\, including the Corn Palace Plaza Mitchell SD
UID:e.1624.32458
SEQUENCE:3
DTSTAMP:20260421T220847Z
URL:https://business.mitchellchamber.com/events/details/first-fridays-on-main-32458
END:VEVENT

END:VCALENDAR
