BEGIN:VCALENDAR
VERSION:2.0
PRODID:-//ChamberMaster//Event Calendar 2.0//EN
METHOD:PUBLISH
X-PUBLISHED-TTL:P3D
REFRESH-INTERVAL:P3D
CALSCALE:GREGORIAN
BEGIN:VEVENT
DTSTART:20220603T220000Z
DTEND:20220604T020000Z
X-MICROSOFT-CDO-ALLDAYEVENT:FALSE
SUMMARY:First Fridays on Main
DESCRIPTION:2022 First Fridays on Main\n\n\n\n- Habitat for Humanity Garden Party\n\n- 3 on 3 Basketball Tournament\n\n- Pickleball demonstrations by the Mitchell Pickleball Association\n\n- Live music by Starfire band\n\n- Multiple booths and vendors\n\n- Food Trucks
X-ALT-DESC;FMTTYPE=text/html:<strong>2022 First Fridays on Main</strong><br />\n<br />\n- Habitat for Humanity Garden Party<br />\n- 3 on 3 Basketball Tournament<br />\n- Pickleball demonstrations by the Mitchell Pickleball Association<br />\n- Live music by Starfire band<br />\n- Multiple booths and vendors<br />\n- Food Trucks<br />\n&nbsp\;
LOCATION:5th and Main to 7th and Main Street\, including the Corn Palace Plaza\, Mitchell SD
UID:e.1624.32457
SEQUENCE:3
DTSTAMP:20260421T234719Z
URL:https://business.mitchellchamber.com/events/details/first-fridays-on-main-32457
END:VEVENT

END:VCALENDAR
