BEGIN:VCALENDAR
VERSION:2.0
PRODID:-//ChamberMaster//Event Calendar 2.0//EN
METHOD:PUBLISH
X-PUBLISHED-TTL:P3D
REFRESH-INTERVAL:P3D
CALSCALE:GREGORIAN
BEGIN:VEVENT
DTSTART:20220506T230000Z
DTEND:20220507T020000Z
X-MICROSOFT-CDO-ALLDAYEVENT:FALSE
SUMMARY:First Fridays on Main
DESCRIPTION:2022 First Fridays on Main \n\n\n\n-Crusin' for a Cause Show & Shine\n\n-Safe Place of Eastern South Dakota will provide kids activities and crafts\n\n-Modern Woodmen's Hometown Hero's presentation\n\n-Announcement of 2023 Corn Palace Murals for National Tourism Week
X-ALT-DESC;FMTTYPE=text/html:<strong>2022 First Fridays on Main</strong>&nbsp\;<br />\n<br />\n-Crusin&#39\; for a Cause Show &amp\; Shine<br />\n-Safe Place of Eastern South Dakota will provide kids activities and crafts<br />\n-Modern Woodmen&#39\;s Hometown Hero&#39\;s presentation<br />\n-Announcement of 2023 Corn Palace Murals for National Tourism Week&nbsp\;
LOCATION:5th and Main to 7th and Main\, including the Corn Palace Plaza\, Mitchell SD
UID:e.1624.32456
SEQUENCE:3
DTSTAMP:20260422T013845Z
URL:https://business.mitchellchamber.com/events/details/first-fridays-on-main-32456
END:VEVENT

END:VCALENDAR
