BEGIN:VCALENDAR
VERSION:2.0
PRODID:-//ChamberMaster//Event Calendar 2.0//EN
METHOD:PUBLISH
X-PUBLISHED-TTL:P3D
REFRESH-INTERVAL:P3D
CALSCALE:GREGORIAN
BEGIN:VEVENT
DTSTART:20240503T130000Z
DTEND:20240503T140000Z
X-MICROSOFT-CDO-ALLDAYEVENT:FALSE
SUMMARY:First Friday Coffee: Wesley Acres
DESCRIPTION:Join the Connect Mitchell Committee with the Mitchell Chamber of Commerce for a very special First Friday Coffee event at Wesley Acres on Friday\, May 3 from 8-9 a.m.\n\n \n\n\n\nDid you know that Wesley Acres is celebrating 60 incredible years this year? Their first open house was on Memorial Day weekend in 1964\, and they have been providing comfortable and secure Independent Living for individuals 62 years and older ever since. Many people aren't aware of what they offer - they are not an assisted living or nursing home. Residents enjoy apartment living with plenty of activities and socialization opportunities. One resident even called them the "Best Kept Secret in Mitchell"!\n\n\n\nCome discover what makes Wesley Acres so special with tours offered during First Friday Coffee. Plus\, mark your calendars for their 60th anniversary Open House on May 22 from 3-6 p.m.\, where they will have more tours and refreshments to celebrate this milestone. Don't miss out - come see what Wesley Acres is all about!
X-ALT-DESC;FMTTYPE=text/html:Join the <em>Connect Mitchell Committee</em> with the Mitchell Chamber of Commerce for a very special First Friday Coffee event at Wesley Acres on Friday\, May 3 from 8-9 a.m.\n<div apple="" color="" color:="" data-block="true" data-editor="ahc01" data-offset-key="9hf35-0-0" font-size:="" segoe="" style="font-family: -apple-system\, BlinkMacSystemFont\, " ui="" white-space-collapse:="">\n<div class="_1mf _1mj" data-offset-key="9hf35-0-0" style="position: relative\; direction: ltr\; font-family: inherit\;">&nbsp\;</div>\n</div>\n\n<div apple="" color="" color:="" data-block="true" data-editor="ahc01" data-offset-key="bir5f-0-0" font-size:="" segoe="" style="font-family: -apple-system\, BlinkMacSystemFont\, " ui="" white-space-collapse:="">\n<div class="_1mf _1mj" data-offset-key="bir5f-0-0" style="position: relative\; direction: ltr\; font-family: inherit\;"><span data-offset-key="bir5f-0-0" style="font-family: inherit\;">Did you know that Wesley Acres is celebrating 60 incredible years this year? Their first open house was on Memorial Day weekend in 1964\, and they have been providing comfortable and secure Independent Living for individuals 62 years and older ever since. Many people aren&#39\;t aware of what they offer - they are not an assisted living or nursing home. Residents enjoy apartment living with plenty of activities and socialization opportunities. One resident even called them the &quot\;Best Kept Secret in Mitchell&quot\;!<br />\n<br />\nCome discover what makes Wesley Acres so special with tours offered during First Friday Coffee. Plus\, mark your calendars for their 60th anniversary Open House on May 22 from 3-6 p.m.\, where they will have more tours and refreshments to celebrate this milestone. Don&#39\;t miss out - come see what Wesley Acres is all about!</span></div>\n</div>\n
LOCATION:Wesley Acres 1115 W Havens Mitchell\, SD 57301
UID:e.1624.36178
SEQUENCE:3
DTSTAMP:20260420T064645Z
URL:https://business.mitchellchamber.com/events/details/first-friday-coffee-wesley-acres-36178
END:VEVENT

END:VCALENDAR
