BEGIN:VCALENDAR
VERSION:2.0
PRODID:-//ChamberMaster//Event Calendar 2.0//EN
METHOD:PUBLISH
X-PUBLISHED-TTL:P3D
REFRESH-INTERVAL:P3D
CALSCALE:GREGORIAN
BEGIN:VEVENT
DTSTART:20200904T130000Z
DTEND:20200904T140000Z
X-MICROSOFT-CDO-ALLDAYEVENT:FALSE
SUMMARY:First Friday Coffee: Plains Commerce Bank
DESCRIPTION:Kicking off the month of September is Plains Commerce Bank of Mitchell hosting The Network's First Friday Coffee! Plains Commerce Bank has over 55\,000 ATMS worldwide and 10 community bank locations throughout the region. Banking with them is personal and convenient. Whether you want to open an account\, apply for a mortgage\, or drop a deposit off after hours\, stop by to meet with a banker or give them a call today!\n\nJoin us for coffee and breakfast treats and get a chance to network with others. This is the perfect opportunity to meet others and learn more about Plains Commerce Bank.
X-ALT-DESC;FMTTYPE=text/html:<span style="font-size:14px\;">Kicking off the month of September is Plains Commerce Bank of Mitchell hosting The Network&#39\;s First Friday Coffee! Plains Commerce Bank has over 55\,000 ATMS worldwide and 10 community bank locations throughout the region. Banking with them is personal and convenient. Whether you want to open an account\, apply for a mortgage\, or drop a deposit off after hours\, stop by to meet with a banker or give them a call today!<br />\nJoin us for coffee and breakfast treats and get a chance to network with others. This is the perfect opportunity to meet others and learn more about Plains Commerce Bank.</span>
LOCATION:1130 S Burr St Mitchell
UID:e.1624.29784
SEQUENCE:3
DTSTAMP:20260423T165158Z
URL:https://business.mitchellchamber.com/events/details/first-friday-coffee-plains-commerce-bank-29784
END:VEVENT

END:VCALENDAR
