BEGIN:VCALENDAR
VERSION:2.0
PRODID:-//ChamberMaster//Event Calendar 2.0//EN
METHOD:PUBLISH
X-PUBLISHED-TTL:P3D
REFRESH-INTERVAL:P3D
CALSCALE:GREGORIAN
BEGIN:VEVENT
DTSTART:20240202T140000Z
DTEND:20240202T150000Z
X-MICROSOFT-CDO-ALLDAYEVENT:FALSE
SUMMARY:First Friday Coffee: Mitchell Rec Center
DESCRIPTION:Join the Connect Mitchell Committee with the Mitchell Chamber of Commerce for First Friday Coffee\, hosted this month by the Mitchell Rec Center on Friday\, February 2 from 8-9 a.m.\n\n\n\nThe City of Mitchell has been busy with updates to their recreation area and they want you to come check it out! Join them for coffee and goodies and get updates on what's been happening!
X-ALT-DESC;FMTTYPE=text/html:Join the <em>Connect Mitchell Committee</em> with the Mitchell Chamber of Commerce for First Friday Coffee\, hosted this month by the Mitchell Rec Center on Friday\, February 2 from 8-9 a.m.<br />\n<br />\nThe City of Mitchell has been busy with updates to their recreation area and they want you to come check it out! Join them for coffee and goodies and get updates on what&#39\;s been happening!
LOCATION:Mitchell Recreation Center & Indoor Aquatic Center 1300 N Main St Mitchell\, SD 57301
UID:e.1624.35455
SEQUENCE:3
DTSTAMP:20260420T160745Z
URL:https://business.mitchellchamber.com/events/details/first-friday-coffee-mitchell-rec-center-35455
END:VEVENT

END:VCALENDAR
