BEGIN:VCALENDAR
VERSION:2.0
PRODID:-//ChamberMaster//Event Calendar 2.0//EN
METHOD:PUBLISH
X-PUBLISHED-TTL:P3D
REFRESH-INTERVAL:P3D
CALSCALE:GREGORIAN
BEGIN:VEVENT
DTSTART:20211203T140000Z
DTEND:20211203T150000Z
X-MICROSOFT-CDO-ALLDAYEVENT:FALSE
SUMMARY:First Friday Coffee: Dept. of Labor
DESCRIPTION:All are invited to join us as we kick off the month of December with the last First Friday Coffee of the year! Our host is the Department of Labor\, located at 1321 N Main St. in Mitchell. We'll be there from 8-9 a.m. on Friday\, Dec. 3.\n\n\n\nThe Department of Labor's mission is to promote economic opportunity and financial security for individuals and businesses. Offering numerous services for job seekers and employers\, they're able to help in any way you need.\n\n\n\nShow your support for this local business by stopping by First Friday Coffee for this networking opportunity- stay the whole time or just as your schedule allows!
X-ALT-DESC;FMTTYPE=text/html:All are invited to join us as we kick off the month of December with the last First Friday Coffee of the year! Our host is the Department of Labor\, located at 1321 N Main St. in Mitchell. We&#39\;ll be there from 8-9 a.m. on Friday\, Dec. 3.<br />\n<br />\nThe Department of Labor&#39\;s mission is to promote economic opportunity and financial security for individuals and businesses. Offering numerous services for job seekers and employers\, they&#39\;re able to help in any way you need.<br />\n<br />\nShow your support for this local business by stopping by First Friday Coffee for this networking opportunity- stay the whole time or just as your schedule allows!<br />\n&nbsp\;
LOCATION:Dept. of Labor 1321 N Main St. Mitchell
UID:e.1624.31962
SEQUENCE:3
DTSTAMP:20260421T205007Z
URL:https://business.mitchellchamber.com/events/details/first-friday-coffee-dept-of-labor-31962
END:VEVENT

END:VCALENDAR
