BEGIN:VCALENDAR
VERSION:2.0
PRODID:-//ChamberMaster//Event Calendar 2.0//EN
METHOD:PUBLISH
X-PUBLISHED-TTL:P3D
REFRESH-INTERVAL:P3D
CALSCALE:GREGORIAN
BEGIN:VEVENT
DTSTART:20240405T130000Z
DTEND:20240405T140000Z
X-MICROSOFT-CDO-ALLDAYEVENT:FALSE
SUMMARY:First Friday Coffee: Bradley's Pub & Grille
DESCRIPTION:Join the Connect Mitchell Committee with the Mitchell Chamber of Commerce for First Friday Coffee\, hosted this month by Bradley's Pub & Grille (Scoreboard Pub & Grille) on Friday\, April 5 from 8-9 a.m.\n\n\n\nBe among the first to experience the new establishment for Bradley's Pub & Grille with exclusive sneak peek tours! Network with fellow patrons and community members!\n\n\n\nCome and kick off your Friday morning with a jolt of excitement and a cup of java at Bradley's Pub & Grille/Scoreboard. Don't miss out on this exciting opportunity to see what's brewing behind the scenes!
X-ALT-DESC;FMTTYPE=text/html:Join the <em>Connect Mitchell Committee</em> with the Mitchell Chamber of Commerce for First Friday Coffee\, hosted this month by Bradley&#39\;s Pub &amp\; Grille (Scoreboard Pub &amp\; Grille) on Friday\, April 5 from 8-9 a.m.<br />\n<br />\nBe among the first to experience the new establishment for Bradley&#39\;s Pub &amp\; Grille with exclusive sneak peek tours! Network with fellow patrons and community members!<br />\n<br />\nCome and kick off your Friday morning with a jolt of excitement and a cup of java at Bradley&#39\;s Pub &amp\; Grille/Scoreboard. Don&#39\;t miss out on this exciting opportunity to see what&#39\;s brewing behind the scenes!<br />\n&nbsp\;
LOCATION:Bradley's/Scoreboard Pub & Grille 522 N Main St Mitchell\, SD 57301
UID:e.1624.36179
SEQUENCE:3
DTSTAMP:20260420T093352Z
URL:https://business.mitchellchamber.com/events/details/first-friday-coffee-bradley-s-pub-grille-36179
END:VEVENT

END:VCALENDAR
