BEGIN:VCALENDAR
VERSION:2.0
PRODID:-//ChamberMaster//Event Calendar 2.0//EN
METHOD:PUBLISH
X-PUBLISHED-TTL:P3D
REFRESH-INTERVAL:P3D
CALSCALE:GREGORIAN
BEGIN:VEVENT
DTSTART:20180706T123000Z
DTEND:20180706T133000Z
X-MICROSOFT-CDO-ALLDAYEVENT:FALSE
SUMMARY:First Friday Coffee at Le Reve Salon & Spa Studios
DESCRIPTION:Stop by Le Reve Salon & Spa for The Network's First Friday Coffee!\n\nEnjoy complimentary coffee\, conversation\, and light breakfast bites as you network from 7:30-8:30 am! Throw your name in for door prizes while you sip on your coffee!
X-ALT-DESC;FMTTYPE=text/html:<span style="font-size:14px\;"><span style="font-family: arial\;">Stop by Le Reve Salon &amp\; Spa for The Network&#39\;s First Friday Coffee!<br />\nEnjoy complimentary coffee\, conversation\, and light breakfast bites as you network from 7:30-8:30 am! Throw your name in for door prizes while you sip on your coffee!</span></span>
LOCATION:901 N. Main St
UID:e.1624.15585
SEQUENCE:3
DTSTAMP:20260425T110711Z
URL:https://business.mitchellchamber.com/events/details/first-friday-coffee-at-le-reve-salon-spa-studios-15585
END:VEVENT

END:VCALENDAR
