BEGIN:VCALENDAR
VERSION:2.0
PRODID:-//ChamberMaster//Event Calendar 2.0//EN
METHOD:PUBLISH
X-PUBLISHED-TTL:P3D
REFRESH-INTERVAL:P3D
CALSCALE:GREGORIAN
BEGIN:VEVENT
DTSTART:20181102T123000Z
DTEND:20181102T133000Z
X-MICROSOFT-CDO-ALLDAYEVENT:FALSE
SUMMARY:First Friday Coffee at Laura May's A Happy Belly Deli
DESCRIPTION:Stop by Laura May's A Happy Belly Deli for The Network's First Friday Coffee!\n\nEnjoy complimentary coffee\, conversation\, and light breakfast bites as you network from 7:30-8:30 am! Throw your name in for door prizes while you sip on your coffee!
X-ALT-DESC;FMTTYPE=text/html:<span style="font-size:14px\;"><span style="font-family: arial\;">Stop by Laura May&#39\;s A Happy Belly Deli for The Network&#39\;s First Friday Coffee!<br />\nEnjoy complimentary coffee\, conversation\, and light breakfast bites as you network from 7:30-8:30 am! Throw your name in for door prizes while you sip on your coffee!</span></span>
LOCATION:417 N. Main St. Ste. 104 Mitchell\, SD
UID:e.1624.19169
SEQUENCE:3
DTSTAMP:20260425T040400Z
URL:https://business.mitchellchamber.com/events/details/first-friday-coffee-at-laura-may-s-a-happy-belly-deli-19169
END:VEVENT

END:VCALENDAR
