BEGIN:VCALENDAR
VERSION:2.0
PRODID:-//ChamberMaster//Event Calendar 2.0//EN
METHOD:PUBLISH
X-PUBLISHED-TTL:P3D
REFRESH-INTERVAL:P3D
CALSCALE:GREGORIAN
BEGIN:VEVENT
DTSTART:20220603T130000Z
DTEND:20220603T140000Z
X-MICROSOFT-CDO-ALLDAYEVENT:FALSE
SUMMARY:First Friday Coffee: Anytime Fitness
DESCRIPTION:Join us for Connect Mitchell's First Friday Coffee in June at Anytime Fitness!\n\nSee what the team at Anytime Fitness has been working on!
X-ALT-DESC;FMTTYPE=text/html:Join us for <em>Connect Mitchell&#39\;s</em> First Friday Coffee in June at Anytime Fitness!<br />\nSee what the team at Anytime Fitness has been working on!
LOCATION:1620 S Burr St Mitchell\, SD 57301
UID:e.1624.32535
SEQUENCE:3
DTSTAMP:20260421T235258Z
URL:https://business.mitchellchamber.com/events/details/first-friday-coffee-anytime-fitness-32535
END:VEVENT

END:VCALENDAR
