BEGIN:VCALENDAR
VERSION:2.0
PRODID:-//ChamberMaster//Event Calendar 2.0//EN
METHOD:PUBLISH
X-PUBLISHED-TTL:P3D
REFRESH-INTERVAL:P3D
CALSCALE:GREGORIAN
BEGIN:VEVENT
DTSTART:20221007T130000Z
DTEND:20221007T140000Z
X-MICROSOFT-CDO-ALLDAYEVENT:FALSE
SUMMARY:First Friday Coffee: 401 Create by LifeQuest
DESCRIPTION:You won't want to miss this month's First Friday Coffee hosted by 401 Create by LifeQuest! Join the staff and clients of 401 Create in downtown Mitchell at 401 N Main Street to check out this amazing space!\n\n\n\n401 Create creates partnerships between community members and people with developmental disabilities supported by LifeQuest.
X-ALT-DESC;FMTTYPE=text/html:You won&#39\;t want to miss this month&#39\;s First Friday Coffee hosted by 401 Create by LifeQuest! Join the staff and clients of 401 Create in downtown Mitchell at 401 N Main Street to check out this amazing space!<br />\n<br />\n401 Create&nbsp\;creates partnerships between community members and people with developmental disabilities supported by LifeQuest.
LOCATION:401 Create by LifeQuest 401 N Main St Mitchell\, SD 57301
UID:e.1624.32824
SEQUENCE:3
DTSTAMP:20260421T170239Z
URL:https://business.mitchellchamber.com/events/details/first-friday-coffee-401-create-by-lifequest-32824
END:VEVENT

END:VCALENDAR
