BEGIN:VCALENDAR
VERSION:2.0
PRODID:-//ChamberMaster//Event Calendar 2.0//EN
METHOD:PUBLISH
X-PUBLISHED-TTL:P3D
REFRESH-INTERVAL:P3D
CALSCALE:GREGORIAN
BEGIN:VEVENT
DTSTART:20171201T133000Z
DTEND:20171201T143000Z
X-MICROSOFT-CDO-ALLDAYEVENT:FALSE
SUMMARY:First Friday at Teresa Hart Financial
DESCRIPTION:Stop by for First Friday at Teresa Hart Financial!\n\nEnjoy complimentary coffee\, conversation\, and light breakfast bites as you network from 7:30-8:30 am! Throw your name in for door prizes while you sip on your coffee!
X-ALT-DESC;FMTTYPE=text/html:<span style="font-size:14px\;"><span style="font-family: arial\;">Stop by for First Friday at Teresa Hart Financial!<br />\nEnjoy complimentary coffee\, conversation\, and light breakfast bites as you network from 7:30-8:30 am! Throw your name in for door prizes while you sip on your coffee!</span></span>
LOCATION:708 E Kay Ave\, Ste 3 Mitchell\, SD
UID:e.1624.8813
SEQUENCE:3
DTSTAMP:20260425T221243Z
URL:https://business.mitchellchamber.com/events/details/first-friday-at-teresa-hart-financial-8813
END:VEVENT

END:VCALENDAR
