BEGIN:VCALENDAR
VERSION:2.0
PRODID:-//ChamberMaster//Event Calendar 2.0//EN
METHOD:PUBLISH
X-PUBLISHED-TTL:P3D
REFRESH-INTERVAL:P3D
CALSCALE:GREGORIAN
BEGIN:VEVENT
DTSTART:20180406T123000Z
DTEND:20180406T133000Z
X-MICROSOFT-CDO-ALLDAYEVENT:FALSE
SUMMARY:First Friday at Sun Gold Sports
DESCRIPTION:Stop by for Sun Gold Sports!\n\nEnjoy complimentary coffee\, conversation\, and light breakfast bites as you network from 7:30-8:30 am! Throw your name in for a door prize while you sip on your coffee!
X-ALT-DESC;FMTTYPE=text/html:<span style="font-size:14px\;"><span style="font-family: arial\;">Stop by for Sun Gold Sports!<br />\nEnjoy complimentary coffee\, conversation\, and light breakfast bites as you network from 7:30-8:30 am! Throw your name in for a door prize while you sip on your coffee!</span></span>
LOCATION:Sun Gold Sports 714 East Kay Ave.
UID:e.1624.14340
SEQUENCE:3
DTSTAMP:20260425T161805Z
URL:https://business.mitchellchamber.com/events/details/first-friday-at-sun-gold-sports-14340
END:VEVENT

END:VCALENDAR
