BEGIN:VCALENDAR
VERSION:2.0
PRODID:-//ChamberMaster//Event Calendar 2.0//EN
METHOD:PUBLISH
X-PUBLISHED-TTL:P3D
REFRESH-INTERVAL:P3D
CALSCALE:GREGORIAN
BEGIN:VEVENT
DTSTART:20170901T123000Z
DTEND:20170901T133000Z
X-MICROSOFT-CDO-ALLDAYEVENT:FALSE
SUMMARY:First Friday at Mueller Lumber
DESCRIPTION:Stop by for First Friday at Mueller Lumber Company!\n\nEnjoy complimentary coffee\, conversation\, and light breakfast bites as you network from 7:30-8:30 am! Throw your name in for door prizes while you sip on your coffee!
X-ALT-DESC;FMTTYPE=text/html:<span style="font-size:14px\;"><span style="font-family: arial\;">Stop by for First Friday at Mueller Lumber Company!<br />\nEnjoy complimentary coffee\, conversation\, and light breakfast bites as you network from 7:30-8:30 am! Throw your name in for door prizes while you sip on your coffee!</span></span>
LOCATION:400 N. Ohlman St.
UID:e.1624.8812
SEQUENCE:3
DTSTAMP:20260426T032333Z
URL:https://business.mitchellchamber.com/events/details/first-friday-at-mueller-lumber-8812
END:VEVENT

END:VCALENDAR
