BEGIN:VCALENDAR
VERSION:2.0
PRODID:-//ChamberMaster//Event Calendar 2.0//EN
METHOD:PUBLISH
X-PUBLISHED-TTL:P3D
REFRESH-INTERVAL:P3D
CALSCALE:GREGORIAN
BEGIN:VEVENT
DTSTART:20180202T133000Z
DTEND:20180202T143000Z
X-MICROSOFT-CDO-ALLDAYEVENT:FALSE
SUMMARY:First Friday at Integrated Massage Solutions
DESCRIPTION:Stop by for Integrated Massage Soluntions!\n\nEnjoy complimentary coffee\, conversation\, and light breakfast bites as you network from 7:30-8:30 am! Throw your name in for door prizes while you sip on your coffee!
X-ALT-DESC;FMTTYPE=text/html:<span style="font-size:14px\;"><span style="font-family: arial\;">Stop by for Integrated Massage Soluntions!<br />\nEnjoy complimentary coffee\, conversation\, and light breakfast bites as you network from 7:30-8:30 am! Throw your name in for door prizes while you sip on your coffee!</span></span>
LOCATION:305 N Lawler
UID:e.1624.9865
SEQUENCE:3
DTSTAMP:20260425T185457Z
URL:https://business.mitchellchamber.com/events/details/first-friday-at-integrated-massage-solutions-9865
END:VEVENT

END:VCALENDAR
