BEGIN:VCALENDAR
VERSION:2.0
PRODID:-//ChamberMaster//Event Calendar 2.0//EN
METHOD:PUBLISH
X-PUBLISHED-TTL:P3D
REFRESH-INTERVAL:P3D
CALSCALE:GREGORIAN
BEGIN:VEVENT
DTSTART:20150807T220000Z
DTEND:20150808T010000Z
X-MICROSOFT-CDO-ALLDAYEVENT:FALSE
SUMMARY:First Friday Art Walk Downtown Mitchell
DESCRIPTION:You are invited to mingle and experience art in downtown Mitchell! Participate in a variety of activities\, including an interactive painting event\, enjoy live music\, and shop for unique works of art! \n\n \n\nMaps\, Entry Forms\, & Detailed Info available at these Participating Businesses! \n\nArea Community Theatre \n\nPhotography Unlimited \n\nLaser Designs \n\nThe Framer \n\nThe Little Red Hen \n\nHardcore\, Inc. \n\nBen Franklin \n\nWoelfel Jewelry \n\nSD Art Gallery \n\nPalace City Pawn \n\nPotter's Plus Studio \n\nCornerstone Coffee House \n\nGet Pinned\n\n\n\n \n\nEnter To Win: \n\n $150 Black Hills Gold Men's Stamper watch donated by Woelfel Jewelry \n\n $100 Photo Session donated by Photography Unlimited \n\n \n\nContact Patsy @ 292-0150 for info
X-ALT-DESC;FMTTYPE=text/html:<p>&nbsp\;</p>\n\n<p><strong><em>You are invited to </em></strong><strong><em>mingle and experience art in downtown Mitchell! Participate in a variety of activities\, including an interactive painting event\, enjoy live music\, and shop for unique works of art! </em></strong><br />\n&nbsp\;</p>\n\n<p><strong>Maps\, Entry Forms\, &amp\; Detailed </strong><strong>Info available at these </strong><strong>Participating Businesses! </strong></p>\n\n<p><strong>Area Community Theatre </strong></p>\n\n<p><strong>Photography Unlimited </strong></p>\n\n<p><strong>Laser Designs </strong></p>\n\n<p><strong>The Framer </strong></p>\n\n<p><strong>The Little Red Hen </strong></p>\n\n<p><strong>Hardcore\, Inc. </strong></p>\n\n<p><strong>Ben Franklin </strong></p>\n\n<p><strong>Woelfel Jewelry </strong></p>\n\n<p><strong>SD Art Gallery </strong></p>\n\n<p><strong>Palace City Pawn </strong></p>\n\n<p><strong>Potter&rsquo\;s Plus Studio </strong></p>\n\n<p><strong>Cornerstone Coffee House </strong></p>\n\n<p><strong>Get Pinned</strong><br />\n<br />\n&nbsp\;</p>\n\n<p><strong>Enter To Win: </strong></p>\n\n<p>&nbsp\;<strong>$150 Black Hills Gold Men&rsquo\;s Stamper watch donated by </strong><strong>Woelfel Jewelry </strong></p>\n\n<p>&nbsp\;<strong>$100 Photo Session donated by Photography Unlimited </strong></p>\n\n<p>&nbsp\;</p>\n\n<p><em>Contact Patsy @ 292-0150 for info </em></p>\n
LOCATION:Downtown Mitchell
UID:e.1624.1957
SEQUENCE:3
DTSTAMP:20260419T181612Z
URL:https://business.mitchellchamber.com/events/details/first-friday-art-walk-downtown-mitchell-08-07-2015-1957
END:VEVENT

END:VCALENDAR
