BEGIN:VCALENDAR
VERSION:2.0
PRODID:-//ChamberMaster//Event Calendar 2.0//EN
METHOD:PUBLISH
X-PUBLISHED-TTL:P3D
REFRESH-INTERVAL:P3D
CALSCALE:GREGORIAN
BEGIN:VEVENT
DTSTART:20240401T230000Z
DTEND:20240402T000000Z
X-MICROSOFT-CDO-ALLDAYEVENT:FALSE
SUMMARY:Fiction Book Club - The Family Chao
DESCRIPTION:Fiction Book Club discusses The Family Chao by Lan Samantha Chang. \n\nPlease contact the library if you are interested in participating in a library book club.
X-ALT-DESC;FMTTYPE=text/html:<p id="isPasted">Fiction Book Club discusses&nbsp\;The Family Chao&nbsp\;by Lan Samantha Chang.&nbsp\;</p>\n\n<p>Please contact the library if you are interested in participating in a library book club.&nbsp\;</p>\n
LOCATION:Mitchell Public Library 221 N Duff St. Mitchell\, SD 57301
UID:e.1624.36167
SEQUENCE:3
DTSTAMP:20260420T094912Z
URL:https://business.mitchellchamber.com/events/details/fiction-book-club-the-family-chao-36167
END:VEVENT

END:VCALENDAR
