BEGIN:VCALENDAR
VERSION:2.0
PRODID:-//ChamberMaster//Event Calendar 2.0//EN
METHOD:PUBLISH
X-PUBLISHED-TTL:P3D
REFRESH-INTERVAL:P3D
CALSCALE:GREGORIAN
BEGIN:VEVENT
DTSTART:20221003T220000Z
DTEND:20221003T230000Z
X-MICROSOFT-CDO-ALLDAYEVENT:FALSE
SUMMARY:Fiction Book Club - "Notes on an Execution"
DESCRIPTION:Fiction Book Club will  discuss Notes on an Execution by Danya Kukafka. If you would like to join book club please contact Zack North. Please let the library know if you need a copy of the book.
X-ALT-DESC;FMTTYPE=text/html:<p><span style="font-size:14px"><span style="background-color:rgb(255\, 255\, 255)\; color:rgb(51\, 51\, 51)\; font-family:source sans pro">Fiction Book Club will&nbsp\; discuss <em>Notes on an Execution</em> by Danya Kukafka. If you would like to join book club please contact Zack North. Please let the library know if you need a copy of the book.</span></span></p>\n
LOCATION:Mitchell Public Library 221 N Duff St Mitchell\, SD 57301
UID:e.1624.32828
SEQUENCE:3
DTSTAMP:20260421T170306Z
URL:https://business.mitchellchamber.com/events/details/fiction-book-club-notes-on-an-execution-32828
END:VEVENT

END:VCALENDAR
